BEGIN:VCALENDAR
VERSION:2.0
PRODID:-//warmlinefrc.org//NONSGML kigkonsult.se iCalcreator 2.30.10//
CALSCALE:GREGORIAN
METHOD:PUBLISH
UID:b8ca658c-3f10-491f-b6aa-f5d12cf2a96b
X-WR-CALDESC:Присоединяйтесь к нашему информативному вебинару\, созданному 
 для того\, чтобы помочь семьям и опекунам ориентироваться в системе услуг 
 для людей с особыми потребностями. Мы рассмотрим различные виды поддержки\
 , доступные для людей с особыми потребностями\, начиная с раннего вмешател
 ьства\, специального образования и до переходных услуг\, а также обсудим\,
  как получить доступ к важным ресурсам.
X-WR-RELCALID:7e29ff5fcb9961248b7c4ce287443011
X-WR-TIMEZONE:America/Los_Angeles
BEGIN:VTIMEZONE
TZID:America/Los_Angeles
BEGIN:STANDARD
TZNAME:PST
DTSTART:20241103T020000
TZOFFSETFROM:-0700
TZOFFSETTO:-0800
RDATE:20251102T020000
END:STANDARD
BEGIN:DAYLIGHT
TZNAME:PDT
DTSTART:20240310T020000
TZOFFSETFROM:-0800
TZOFFSETTO:-0700
RDATE:20250309T020000
RDATE:20260308T020000
END:DAYLIGHT
END:VTIMEZONE
BEGIN:VEVENT
UID:e260ae37-776e-422c-a8cc-c042ac261136
DTSTAMP:20260421T081751Z
DESCRIPTION:Присоединяйтесь к нашему информативному вебинару\, созданному д
 ля того\, чтобы помочь семьям и опекунам ориентироваться в системе услуг д
 ля людей с особыми потребностями. Мы рассмотрим различные виды поддержки\,
  доступные для людей с особыми потребностями\, начиная с раннего вмешатель
 ства\, специального образования и до переходных услуг\, а также обсудим\, 
 как получить доступ к важным ресурсам.
DTSTART;TZID=America/Los_Angeles:20250212T100000
DTEND;TZID=America/Los_Angeles:20250212T113000
LOCATION:https://us02web.zoom.us/meeting/register/nkQpQz_tSTm_DPJE_MwdQg
SUMMARY:«Понимание услуг для людей с особыми потребностями»
END:VEVENT
END:VCALENDAR
