BEGIN:VCALENDAR
VERSION:2.0
PRODID:-//warmlinefrc.org//NONSGML kigkonsult.se iCalcreator 2.30.10//
CALSCALE:GREGORIAN
METHOD:PUBLISH
UID:fae5971c-f88d-455d-bd48-2abb89eacdc3
X-WR-CALDESC:Do you have a child who is receiving early intervention servic
 es? Is your child about to turn 3 years old?  \n\nPlease join us virtually
  to learn about special education services in preschool\, regional center 
 eligibility after the age of 3\, and more.
X-WR-RELCALID:e3ffe1ecbd5c1faafae6dd11b5a1799b
X-WR-TIMEZONE:America/Los_Angeles
BEGIN:VTIMEZONE
TZID:America/Los_Angeles
BEGIN:STANDARD
TZNAME:PST
DTSTART:20251102T020000
TZOFFSETFROM:-0700
TZOFFSETTO:-0800
RDATE:20261101T020000
RDATE:20271107T020000
END:STANDARD
BEGIN:DAYLIGHT
TZNAME:PDT
DTSTART:20260308T020000
TZOFFSETFROM:-0800
TZOFFSETTO:-0700
RDATE:20270314T020000
END:DAYLIGHT
END:VTIMEZONE
BEGIN:VEVENT
UID:c24939c4-6a5b-40d1-8490-b725218e65fc
DTSTAMP:20260420T021954Z
DESCRIPTION:Do you have a child who is receiving early intervention service
 s? Is your child about to turn 3 years old?  \n\nPlease join us virtually 
 to learn about special education services in preschool\, regional center e
 ligibility after the age of 3\, and more.
DTSTART;TZID=America/Los_Angeles:20260512T100000
DTEND;TZID=America/Los_Angeles:20260512T120000
LOCATION:https://us02web.zoom.us/meeting/register/HU6WNxesREq62jvPRC8H9Q
SUMMARY:WarmLine Presents: Turning 3 Years Old
END:VEVENT
END:VCALENDAR
