BEGIN:VCALENDAR
VERSION:2.0
PRODID:-//warmlinefrc.org//NONSGML kigkonsult.se iCalcreator 2.30.10//
CALSCALE:GREGORIAN
METHOD:PUBLISH
UID:41443772-7020-4439-a968-d6fe22716b6f
X-WR-CALDESC:Te invitamos a un espacio seguro\, acogedor y respetuoso donde
  las familias que viven la experiencia de la discapacidad del desarrollo y
  la neurodiversidad pueden reunirse para compartir\, aprender y apoyarse m
 utuamente.\n\nSólo adultos - No podemos proporcionar cuidado de niños.
X-WR-RELCALID:584908ce0b74b2864810eae1b80e27b5
X-WR-TIMEZONE:America/Los_Angeles
BEGIN:VTIMEZONE
TZID:America/Los_Angeles
BEGIN:STANDARD
TZNAME:PST
DTSTART:20251102T020000
TZOFFSETFROM:-0700
TZOFFSETTO:-0800
RDATE:20261101T020000
RDATE:20271107T020000
END:STANDARD
BEGIN:DAYLIGHT
TZNAME:PDT
DTSTART:20260308T020000
TZOFFSETFROM:-0800
TZOFFSETTO:-0700
RDATE:20270314T020000
END:DAYLIGHT
END:VTIMEZONE
BEGIN:VEVENT
UID:a4216e07-34e8-4254-b8cf-1cc05db19fc0
DTSTAMP:20260422T003129Z
DESCRIPTION:Te invitamos a un espacio seguro\, acogedor y respetuoso donde 
 las familias que viven la experiencia de la discapacidad del desarrollo y 
 la neurodiversidad pueden reunirse para compartir\, aprender y apoyarse mu
 tuamente.\n\nSólo adultos - No podemos proporcionar cuidado de niños.
DTSTART;TZID=America/Los_Angeles:20260626T100000
DTEND;TZID=America/Los_Angeles:20260626T120000
LOCATION:3336 Bradshaw Rd\, Suite 255\, Sacramento\, CA 95827 US
SUMMARY:WarmLine Presents: Grupo de Apoyo para Madres\, Padres y Cuidadores
  (en Español)
END:VEVENT
END:VCALENDAR
